BEGIN:VCALENDAR
VERSION:2.0
PRODID:-//Naturerlebnis Braun - ECPv6.15.20//NONSGML v1.0//EN
CALSCALE:GREGORIAN
METHOD:PUBLISH
X-ORIGINAL-URL:https://naturerlebnis-braun.de
X-WR-CALDESC:Veranstaltungen für Naturerlebnis Braun
REFRESH-INTERVAL;VALUE=DURATION:PT1H
X-Robots-Tag:noindex
X-PUBLISHED-TTL:PT1H
BEGIN:VTIMEZONE
TZID:UTC
BEGIN:STANDARD
TZOFFSETFROM:+0000
TZOFFSETTO:+0000
TZNAME:UTC
DTSTART:20180101T000000
END:STANDARD
END:VTIMEZONE
BEGIN:VEVENT
DTSTART;TZID=UTC:20200815T170000
DTEND;TZID=UTC:20200816T230000
DTSTAMP:20260420T044121
CREATED:20200105T164305Z
LAST-MODIFIED:20200122T122706Z
UID:977-1597510800-1597618800@naturerlebnis-braun.de
SUMMARY:Eine Nacht im Wildpark Teil 2 - Wiederholungstäterinnen und -täter 2020
DESCRIPTION:Die Übernachtung im Wildpark hat seit einigen Jahren einen festen Fan-Club. Für die „alten Hasen“ wird ein neues Übernachtungsprogramm aufgelegt. Schwerpunkt der Veranstaltung bleibt das „NaturErleben“. Übernachtet werden kann im eigenen Zelt. Ein einfaches Abendessen und Frühstück werden wie immer organisiert. Samstags finden Teamaufgaben und eine Nachtwanderung. Der Abend klingt am gemütlichen Feuer aus. Bei extremer Trockenheit muss das Feuer entfallen. Am Sonntagmorgen werden nach dem gemeinsamen Frühstück nochmals Teamspiele angeboten. Gegen 11 Uhr werden die Zelte wieder abgebaut. Bitte Zelte\, Taschenlampen\, wetterangepasste & warme Kleidung\, gute Schlafsäcke und Isomatten mitbringen. Für Verpflegung und Getränke ist gesorgt. Zielgruppe: Kinder bis 14 Jahre und deren Eltern oder Großeltern (mindestens eine erwachsene Begleitperson ist erforderlich!) \nVorausgesetzt wird die Teilnahme an einer Nacht im Wildpark in den letzten Jahren. \n  \nWann: Samstag\, 15. bis Sonntag\, 16. August; 17.00 bis 11.00 Uhr\, Treffpunkt Wildpark Haupteingang \nReferentinnen: Marion Braun & Saskia Weygandt \nKosten: 50\,00 € pro Person (inklusive Wildpark-Eintritt und Verpflegung) \nAnmeldung: erforderlich unter 06181-618330-12 oder Sabine.Scholl@forst.hessen.de \nAchtung: Anmeldeschluss ist Mittwoch\, 12. August 2020 \n 
URL:https://naturerlebnis-braun.de/event/eine-nacht-im-wildpark-teil-2-wiederholungstaeterinnen-und-taeter
LOCATION:Alte Fasanerie Hanau\, Klein-Auheim
END:VEVENT
BEGIN:VEVENT
DTSTART;TZID=UTC:20200704T170000
DTEND;TZID=UTC:20200705T110000
DTSTAMP:20260420T044121
CREATED:20200105T163734Z
LAST-MODIFIED:20200122T122650Z
UID:975-1593882000-1593946800@naturerlebnis-braun.de
SUMMARY:Eine Nacht im Wildpark 2020
DESCRIPTION:Schon `mal unter freiem Himmel oder im Zelt im Wald übernachtet? Da kann kein „Dschungel-Camp“ mithalten! Für eine begrenzte Anzahl von Kindern und deren Begleitpersonen bietet der Wildpark eine ganz besondere Outdoor-Nacht auf der Wildparkwiese an. Natürlich unter sachkundiger Aufsicht von Expertin Marion Braun. Schwerpunkt der Veranstaltung ist das „Natur-Erleben“. Übernachtet wird im eigenen Zelt. Ein einfaches Abendessen und Frühstück werden organisiert. Samstags wird mit einer Kennenlernrunde und Spielen gestartet\, eine Nachtwanderung zu Wolf\, Luchs & Co. schließt sich an. Am gemütlichen Lagerfeuer klingt der Abend aus. Bei extremer Trockenheit muss das Feuer ausfallen. Am Sonntagmorgen steht eine Frühwanderung durch den langsam erwachenden Wildpark auf dem Programm. Nach dem gemeinsamen Frühstück werden die Zelte wieder abgebaut. Bitte Zelte\, Taschenlampen\, wetterangepasste & warme Kleidung\, gute Schlafsäcke und Isomatten mitbringen. Für Verpflegung und Getränke ist gesorgt. \nZielgruppe: Kinder im Alter von 6 bis 12 Jahren und deren Eltern oder Großeltern (mindestens eine erwachsene Begleitperson ist erforderlich!) \n \nReferentinnen: Marion Braun & Saskia Weygandt \nWann: Samstag\, 04. bis Sonntag\, 05. Juli; 17.00 bis 11.00 Uhr\, Treffpunkt Wildpark Haupteingang \nKosten: 50\,00 € pro Person (inklusive Wildpark-Eintritt und Verpflegung; Vorauszahlung erforderlich) \nAnmeldung: erforderlich unter 06181-618330-12 oder Sabine.Scholl@forst.hessen.de \nAchtung: Anmeldeschluss ist Mittwoch\, 01. Juli 2020
URL:https://naturerlebnis-braun.de/event/eine-nacht-im-wildpark-2020
LOCATION:Alte Fasanerie Hanau\, Klein-Auheim
END:VEVENT
BEGIN:VEVENT
DTSTART;TZID=UTC:20190810T170000
DTEND;TZID=UTC:20190811T110000
DTSTAMP:20260420T044121
CREATED:20190109T192700Z
LAST-MODIFIED:20190109T193009Z
UID:836-1565456400-1565521200@naturerlebnis-braun.de
SUMMARY:Eine Nacht im Wildpark für alte Hasen 2019
DESCRIPTION:Die Nacht im Wildpark hat seit einigen Jahren einen festen “Fan-Club”. Für die „alten Hasen” wird auch im kommenden Jahr wieder ein neues Programm aufgelegt. Schwerpunkt der Veranstaltung bleibt das „Natur-Erleben“. \nÜbernachtet werden kann im eigenen Zelt oder unter freiem Himmel am Feuer. Abendessen und Frühstück werden wie immer organisiert.\nSamstags finden Spiele\, Feuermachen ohne Feuerzeug und eine Nachtwanderung statt. Der Abend klingt am Lagerfeuer gemütlich aus. \nAm Sonntag werden nach dem gemütlichen Frühstück am Lagerfeuer weitere Spiele angeboten. \nBitte Zelte\, wetterangepasste und warme Kleidung\, gute Schlafsäcke und Isomatten mitbringen.\nFür Verpflegung und Getränke wird gesorgt. \nZielgruppe: Kinder im Alter ab 9 Jahre und deren Eltern oder Großeltern (mindestens eine erwachsene Begleitperson ist erforderlich!) \nVorausgesetzt wird die Teilnahme an einer Nacht im Wildpark in den letzten Jahren. \nReferentin: Marion Braun\nWann: Samstag\, 10. bis Sonntag\, 11. August\, 17.00 Uhr bis 11.00 Uhr Treffpunkt am Haupteingang\nKosten: 50\,00 € pro Person (inklusive Wildpark-Eintritt und Verpflegung)\nAnmeldung: erforderlich unter 06181-618330-10
URL:https://naturerlebnis-braun.de/event/eine-nacht-im-wildpark-fuer-alte-hasen-2019
LOCATION:Alte Fasanerie Hanau\, Klein-Auheim
ATTACH;FMTTYPE=image/jpeg:https://naturerlebnis-braun.de/wp-content/uploads/2017/10/P1040448.jpg
END:VEVENT
BEGIN:VEVENT
DTSTART;TZID=UTC:20190629T170000
DTEND;TZID=UTC:20190630T170000
DTSTAMP:20260420T044121
CREATED:20190109T192020Z
LAST-MODIFIED:20190109T193026Z
UID:832-1561827600-1561914000@naturerlebnis-braun.de
SUMMARY:Eine Nacht im Wildpark 2019
DESCRIPTION:Schon` mal unter freiem Himmel oder im Zelt im Wald übernachtet? Da kann kein „Dschungel-Camp“ mithalten! \nFür eine begrenzte Anzahl von Kindern und deren Begleitpersonen bietet der Wildpark „Alte Fasanerie“ in Hanau / Klein-Auheim auch im folgenden Jahr wieder eine ganz besondere Outdoor-Nacht auf der Wildparkwiese an.  Schwerpunkt der Veranstaltung ist das „Natur-Erleben“. Übernachtet werden kann im eigenen Zelt oder unter freiem Himmel am Feuer. Ein einfaches und rustikales Abendessen und Frühstück werden organisiert. Samstags wird mit einer Kennenlernrunde und Spielen gestartet\, eine Nachtwanderung zu Wolf\, Luchs und Co. schließt sich an. Am gemütlichen Lagerfeuer klingt der Abend aus. \nAm Sonntagmorgen steht eine Frühwanderung durch den langsam erwachenden Wildpark auf dem Programm. Nach dem gemeinsamen Frühstück am Lagerfeuer werden die Zelte wieder abgebaut. \nBitte Zelte\, wetterangepasste und warme Kleidung\, gute Schlafsäcke und Isomatten mitbringen.\nFür Verpflegung und Getränke wird gesorgt. \nZielgruppe: Kinder im Alter von 6 bis 12 Jahren und deren Eltern oder Großeltern (mindestens eine erwachsene Begleitperson ist erforderlich!)\nReferentin: Marion Braun & Saskia Weygandt\nWann: Samstag\, 29.06. bis Sonntag\, 30.06. Juni; 17.00 bis 11.00 Uhr\nTreffpunkt: Wildpark Haupteingang\nKosten: 50\,00 € pro Person (inklusive Wildpark-Eintritt und Verpflegung)\nAnmeldung: erforderlich unter 06181-618330-10 \n 
URL:https://naturerlebnis-braun.de/event/eine-nacht-im-wildpark-2019
LOCATION:Alte Fasanerie Hanau\, Klein-Auheim
ATTACH;FMTTYPE=image/jpeg:https://naturerlebnis-braun.de/wp-content/uploads/2018/08/P1010535.jpg
END:VEVENT
END:VCALENDAR